BEGIN:VCALENDAR
VERSION:2.0
PRODID:-//Dirty Water Candles - ECPv6.15.20//NONSGML v1.0//EN
CALSCALE:GREGORIAN
METHOD:PUBLISH
X-ORIGINAL-URL:https://dirtywatercandles.com
X-WR-CALDESC:Events for Dirty Water Candles
REFRESH-INTERVAL;VALUE=DURATION:PT1H
X-Robots-Tag:noindex
X-PUBLISHED-TTL:PT1H
BEGIN:VTIMEZONE
TZID:UTC
BEGIN:STANDARD
TZOFFSETFROM:+0000
TZOFFSETTO:+0000
TZNAME:UTC
DTSTART:20240101T000000
END:STANDARD
END:VTIMEZONE
BEGIN:VEVENT
DTSTART;TZID=UTC:20251011T120000
DTEND;TZID=UTC:20251011T180000
DTSTAMP:20260424T002342
CREATED:20250602T030329Z
LAST-MODIFIED:20251007T004951Z
UID:388-1760184000-1760205600@dirtywatercandles.com
SUMMARY:Pop Up - Reverie 73 Lowell Saturday Oct 11th from 12-6
DESCRIPTION:add a description
URL:https://dirtywatercandles.com/event/candle-pop-up-store-2/
LOCATION:Reverie 73 – Lowell\, 1148 Bridge Street\, Lowell\, MA\, 01850\, United States
CATEGORIES:Pop Up
ATTACH;FMTTYPE=image/png:https://dirtywatercandles.com/wp-content/uploads/2025/08/Screenshot-2025-09-02-223656.png
END:VEVENT
BEGIN:VEVENT
DTSTART;TZID=UTC:20251024T120000
DTEND;TZID=UTC:20251024T180000
DTSTAMP:20260424T002342
CREATED:20251018T010826Z
LAST-MODIFIED:20251018T010826Z
UID:802-1761307200-1761328800@dirtywatercandles.com
SUMMARY:Pop Up - Reverie 73 Beverly Friday October 24th
DESCRIPTION:add a description
URL:https://dirtywatercandles.com/event/pop-up-reverie-73-beverly-friday-october-24th/
LOCATION:Reverie 73 – Beverly\, 350 Rantoul Street\, Beverly\, MA\, 01915\, United States
CATEGORIES:Pop Up
ATTACH;FMTTYPE=image/png:https://dirtywatercandles.com/wp-content/uploads/2025/08/Screenshot-2025-09-02-223656.png
END:VEVENT
BEGIN:VEVENT
DTSTART;TZID=UTC:20251031T140000
DTEND;TZID=UTC:20251031T190000
DTSTAMP:20260424T002342
CREATED:20251030T173106Z
LAST-MODIFIED:20251030T173311Z
UID:842-1761919200-1761937200@dirtywatercandles.com
SUMMARY:Pop Up - Reverie 73 Lowell Friday Oct 31st from 2-7
DESCRIPTION:add a description
URL:https://dirtywatercandles.com/event/pop-up-reverie-73-lowell-friday-oct-31st-from-2-7/
LOCATION:Reverie 73 – Lowell\, 1148 Bridge Street\, Lowell\, MA\, 01850\, United States
CATEGORIES:Pop Up
ATTACH;FMTTYPE=image/png:https://dirtywatercandles.com/wp-content/uploads/2025/08/Screenshot-2025-09-02-223656.png
END:VEVENT
END:VCALENDAR