BEGIN:VCALENDAR
VERSION:2.0
PRODID:-//Dirty Water Candles - ECPv6.15.20//NONSGML v1.0//EN
CALSCALE:GREGORIAN
METHOD:PUBLISH
X-WR-CALNAME:Dirty Water Candles
X-ORIGINAL-URL:https://dirtywatercandles.com
X-WR-CALDESC:Events for Dirty Water Candles
REFRESH-INTERVAL;VALUE=DURATION:PT1H
X-Robots-Tag:noindex
X-PUBLISHED-TTL:PT1H
BEGIN:VTIMEZONE
TZID:America/New_York
BEGIN:DAYLIGHT
TZOFFSETFROM:-0500
TZOFFSETTO:-0400
TZNAME:EDT
DTSTART:20250309T070000
END:DAYLIGHT
BEGIN:STANDARD
TZOFFSETFROM:-0400
TZOFFSETTO:-0500
TZNAME:EST
DTSTART:20251102T060000
END:STANDARD
BEGIN:DAYLIGHT
TZOFFSETFROM:-0500
TZOFFSETTO:-0400
TZNAME:EDT
DTSTART:20260308T070000
END:DAYLIGHT
BEGIN:STANDARD
TZOFFSETFROM:-0400
TZOFFSETTO:-0500
TZNAME:EST
DTSTART:20261101T060000
END:STANDARD
BEGIN:DAYLIGHT
TZOFFSETFROM:-0500
TZOFFSETTO:-0400
TZNAME:EDT
DTSTART:20270314T070000
END:DAYLIGHT
BEGIN:STANDARD
TZOFFSETFROM:-0400
TZOFFSETTO:-0500
TZNAME:EST
DTSTART:20271107T060000
END:STANDARD
END:VTIMEZONE
BEGIN:VEVENT
DTSTART;TZID=America/New_York:20260320T130000
DTEND;TZID=America/New_York:20260320T180000
DTSTAMP:20260423T121213
CREATED:20260315T223158Z
LAST-MODIFIED:20260315T223346Z
UID:941-1774011600-1774029600@dirtywatercandles.com
SUMMARY:Garden Remedies Dispensary Melrose Pop-Up Friday March 20th from 1-6
DESCRIPTION:Super excited and grateful to be able to showcase my products at Garden Remedies.  Come by to check out my Wake and Bake and my But I’m Lit Dough.  This place is both Rec and Med
URL:https://dirtywatercandles.com/event/garden-remedies-melrose-pop-up-friday-march-20th-from-1-6/
LOCATION:Garden Remedies Melrose\, 732 Newburyport Turnpike\, Melrose\, MA\, 02176\, United States
END:VEVENT
BEGIN:VEVENT
DTSTART;TZID=America/New_York:20260327T160000
DTEND;TZID=America/New_York:20260327T200000
DTSTAMP:20260423T121213
CREATED:20260311T212913Z
LAST-MODIFIED:20260311T212913Z
UID:933-1774627200-1774641600@dirtywatercandles.com
SUMMARY:Reverie 73 Gloucester Pop Up - March 27th 4-8
DESCRIPTION:Come check out my shenanigans at Reverie 73 in Gloucester.  Must be over 21 with a valid ID to get in – killer seafood nearby if you need an excuse other than cannabis and candles. \n.
URL:https://dirtywatercandles.com/event/reverie-73-gloucester-pop-up-march-27th-4-8/
LOCATION:Reverie 73 – Gloucester\, 73 Essex Ave\,\, Gloucester\, MA\, 01930\, United States
CATEGORIES:Pop Up
END:VEVENT
BEGIN:VEVENT
DTSTART;TZID=America/New_York:20260402T130000
DTEND;TZID=America/New_York:20260405T180000
DTSTAMP:20260423T121213
CREATED:20260311T163839Z
LAST-MODIFIED:20260311T164033Z
UID:928-1775134800-1775412000@dirtywatercandles.com
SUMMARY:Mission Dispensary Georgetown Pop-up - April 2nd -April 5th from 1-6 (med and rec)
DESCRIPTION:Come check out my line of best smellers at Mission Dispensary in Georgetown. I’ll be there for a total of 8 days in April (2-5 and 17-20)
URL:https://dirtywatercandles.com/event/mission-dispensary-georgetown-pop-up-april-2nd-april-5th-from-1-6-med-and-rec/
LOCATION:Mission Georgetown Cannabis Dispensary\, 401 East Main Street\, Georgetown\, MA\, United States
END:VEVENT
BEGIN:VEVENT
DTSTART;TZID=America/New_York:20260406T130000
DTEND;TZID=America/New_York:20260406T180000
DTSTAMP:20260423T121213
CREATED:20260323T165143Z
LAST-MODIFIED:20260323T165143Z
UID:953-1775480400-1775498400@dirtywatercandles.com
SUMMARY:Sanctuary Danvers Pop-Up - Monday April 6 from 1-6 - Medical Card Holders Only
DESCRIPTION:Come check out my products.  I’ll be there to provide aromatherapy and maybe a little comic relief for those waiting in line for 40% off of Sanctuary Products.  Medical cardholders only.
URL:https://dirtywatercandles.com/event/sanctuary-danvers-pop-up-monday-april-6-from-1-6-medical-card-holders-only/
LOCATION:Sanctuary Danvers – This location is only for medical card-holders\, 2 Electronics Ave\, Danvers\, MA\, 01923\, United States
END:VEVENT
BEGIN:VEVENT
DTSTART;TZID=America/New_York:20260409T150000
DTEND;TZID=America/New_York:20260409T180000
DTSTAMP:20260423T121213
CREATED:20260316T225916Z
LAST-MODIFIED:20260328T222009Z
UID:948-1775746800-1775757600@dirtywatercandles.com
SUMMARY:Pop Up on the Porch - Mello Haverhill - April 9th 3-6
DESCRIPTION:Come check out my selections\, and you don’t even have to whip out your ID (unless you go in).  I’ll be on the porch at Mello in Haverhill\, April 9th\, from 3-6
URL:https://dirtywatercandles.com/event/pop-up-on-the-porch-mello-haverhill-april-10th-2-7/
LOCATION:Mello – Haverhill\, 330 Amesbury Road\, Haverhill\, MA\, 01830\, United States
END:VEVENT
BEGIN:VEVENT
DTSTART;TZID=America/New_York:20260417T130000
DTEND;TZID=America/New_York:20260420T180000
DTSTAMP:20260423T121213
CREATED:20260311T213715Z
LAST-MODIFIED:20260316T051044Z
UID:935-1776430800-1776708000@dirtywatercandles.com
SUMMARY:Mission Dispensary Georgetown Pop-Up 4/17 through 4/20 1-6 each day
DESCRIPTION:Back to where it all started!  It’s been one whole year since my first pop-up last year during 4/20 weekend at Mission.  And this year\, I’ll be doing a pop-up at Mission Georgetown for the weekend of 4/20.  I’m sure there will be “cannot miss” deals there that weekend. \nRecreational and Med \n \n 
URL:https://dirtywatercandles.com/event/mission-dispensary-georgetown-pop-up-4-17-through-4-20-1-6-each-day/
LOCATION:Mission Georgetown Cannabis Dispensary\, 401 East Main Street\, Georgetown\, MA\, United States
END:VEVENT
BEGIN:VEVENT
DTSTART;TZID=America/New_York:20260418T120000
DTEND;TZID=America/New_York:20260418T170000
DTSTAMP:20260423T121213
CREATED:20260323T171445Z
LAST-MODIFIED:20260323T171641Z
UID:957-1776513600-1776531600@dirtywatercandles.com
SUMMARY:Riverfest Dracut Pop Up at Lazy River - April 18th from 12-5
DESCRIPTION:Yes!  I am in two places at once.  My friend Jenn will be holding down the fort at Mission in Georgetown while I’m at the Dracut Riverfest.  If you’ve never gone to this event\, it is so much fun.  The event is held under a tent outside.  Swing by to see the shenanigans\, with food\, bands\, raffles\, and cannabis – can’t go wrong! \n \n  \n  \n 
URL:https://dirtywatercandles.com/event/riverfest-dracut-pop-up-at-lazy-river-april-18th-from-12-5/
LOCATION:Lazy River Dracut\, 149 Broadway Road\, Dracut\, MA\, 01826\, United States
END:VEVENT
BEGIN:VEVENT
DTSTART;TZID=America/New_York:20260423T130000
DTEND;TZID=America/New_York:20260425T180000
DTSTAMP:20260423T121213
CREATED:20260318T204744Z
LAST-MODIFIED:20260318T204744Z
UID:951-1776949200-1777140000@dirtywatercandles.com
SUMMARY:Sanctuary Woburn Pop-Up April 23-25 1pm-6pm each day.
DESCRIPTION:Swing by to check out some favorite Spring scents.  Unf#%k Yourself is a good one for that.  Want to know why it’s called that? \nThe scent of Nag Champa can reduce stress\, deepen meditation\, and purify the air. Its grounding\, earthy\, and floral scent is used to foster relaxation\, enhance mental clarity\, and clear negative energy from spaces.
URL:https://dirtywatercandles.com/event/sanctuary-woburn-pop-up-april-23-25-1pm-6pm-each-day/
LOCATION:Sanctuary Woburn\, 130 Commerce Way\, Woburn\, MA\, 01801\, United States
END:VEVENT
BEGIN:VEVENT
DTSTART;TZID=America/New_York:20260501T150000
DTEND;TZID=America/New_York:20260502T200000
DTSTAMP:20260423T121213
CREATED:20260323T170147Z
LAST-MODIFIED:20260323T170147Z
UID:955-1777647600-1777752000@dirtywatercandles.com
SUMMARY:Reverie 73 Lowell Pop-Up May 1st and May 2nd from 3-8 both days
DESCRIPTION:This is the season of renewal\, with windows open\, and smells of Unicorn Farts\, or Wake & Bake wafting through the air.  Swing by to check out how to make your home smell less like stale winter ass!
URL:https://dirtywatercandles.com/event/reverie-73-lowell-pop-up-may-1st-and-may-2nd-from-3-8-both-days/
END:VEVENT
BEGIN:VEVENT
DTSTART;TZID=America/New_York:20260504T130000
DTEND;TZID=America/New_York:20260504T180000
DTSTAMP:20260423T121213
CREATED:20260411T202554Z
LAST-MODIFIED:20260411T202554Z
UID:969-1777899600-1777917600@dirtywatercandles.com
SUMMARY:Sanctuary Medicinals Woburn - Monday May the 4th (be with you) 1pm-6pm - Med Monday
DESCRIPTION:This establishment is both Rec and Med.   Although it is Med Monday\, medical cardholders receive huge discounts on Sanctuary products. \nCome check out my stash while getting your stash at Sanctuary in Woburn. 
URL:https://dirtywatercandles.com/event/sanctuary-medicinals-woburn-monday-may-the-4th-be-with-you-1pm-6pm-med-monday/
LOCATION:Sanctuary Woburn\, 130 Commerce Way\, Woburn\, MA\, 01801\, United States
END:VEVENT
BEGIN:VEVENT
DTSTART;TZID=America/New_York:20260529T160000
DTEND;TZID=America/New_York:20260529T200000
DTSTAMP:20260423T121213
CREATED:20260411T204122Z
LAST-MODIFIED:20260411T204122Z
UID:971-1780070400-1780084800@dirtywatercandles.com
SUMMARY:Pop-Up Reverie Gloucester - lots of vendors - May 29th from 4-8
DESCRIPTION:This smells so delicious – come check this one and others out at a vendor event inside Reverie in Gloucester
URL:https://dirtywatercandles.com/event/pop-up-reverie-gloucester-lots-of-vendors-may-29th-from-4-8/
END:VEVENT
END:VCALENDAR