BEGIN:VCALENDAR
VERSION:2.0
PRODID:-//Dirty Water Candles - ECPv6.15.20//NONSGML v1.0//EN
CALSCALE:GREGORIAN
METHOD:PUBLISH
X-WR-CALNAME:Dirty Water Candles
X-ORIGINAL-URL:https://dirtywatercandles.com
X-WR-CALDESC:Events for Dirty Water Candles
REFRESH-INTERVAL;VALUE=DURATION:PT1H
X-Robots-Tag:noindex
X-PUBLISHED-TTL:PT1H
BEGIN:VTIMEZONE
TZID:America/New_York
BEGIN:DAYLIGHT
TZOFFSETFROM:-0500
TZOFFSETTO:-0400
TZNAME:EDT
DTSTART:20240310T070000
END:DAYLIGHT
BEGIN:STANDARD
TZOFFSETFROM:-0400
TZOFFSETTO:-0500
TZNAME:EST
DTSTART:20241103T060000
END:STANDARD
BEGIN:DAYLIGHT
TZOFFSETFROM:-0500
TZOFFSETTO:-0400
TZNAME:EDT
DTSTART:20250309T070000
END:DAYLIGHT
BEGIN:STANDARD
TZOFFSETFROM:-0400
TZOFFSETTO:-0500
TZNAME:EST
DTSTART:20251102T060000
END:STANDARD
BEGIN:DAYLIGHT
TZOFFSETFROM:-0500
TZOFFSETTO:-0400
TZNAME:EDT
DTSTART:20260308T070000
END:DAYLIGHT
BEGIN:STANDARD
TZOFFSETFROM:-0400
TZOFFSETTO:-0500
TZNAME:EST
DTSTART:20261101T060000
END:STANDARD
BEGIN:DAYLIGHT
TZOFFSETFROM:-0500
TZOFFSETTO:-0400
TZNAME:EDT
DTSTART:20270314T070000
END:DAYLIGHT
BEGIN:STANDARD
TZOFFSETFROM:-0400
TZOFFSETTO:-0500
TZNAME:EST
DTSTART:20271107T060000
END:STANDARD
END:VTIMEZONE
BEGIN:VTIMEZONE
TZID:UTC
BEGIN:STANDARD
TZOFFSETFROM:+0000
TZOFFSETTO:+0000
TZNAME:UTC
DTSTART:20240101T000000
END:STANDARD
END:VTIMEZONE
BEGIN:VEVENT
DTSTART;TZID=America/New_York:20260209T133000
DTEND;TZID=America/New_York:20260209T173000
DTSTAMP:20260423T161638
CREATED:20260209T021235Z
LAST-MODIFIED:20260209T172349Z
UID:905-1770643800-1770658200@dirtywatercandles.com
SUMMARY:Additional Pop Up at Mission Monday February 9th from 1:30-5:30
DESCRIPTION:
URL:https://dirtywatercandles.com/event/additional-pop-up-at-mission-monday-february-9th-from-130-530/
LOCATION:Mission Georgetown Cannabis Dispensary\, 401 East Main Street\, Georgetown\, MA\, United States
END:VEVENT
BEGIN:VEVENT
DTSTART;TZID=America/New_York:20260205T130000
DTEND;TZID=America/New_York:20260208T180000
DTSTAMP:20260423T161638
CREATED:20260204T201113Z
LAST-MODIFIED:20260204T201441Z
UID:900-1770296400-1770573600@dirtywatercandles.com
SUMMARY:Pop Up Event - Mission Georgetown 2/5-2/8 1-6 each day
DESCRIPTION:
URL:https://dirtywatercandles.com/event/pop-up-event-mission-georgetown-2-5-2-8/
LOCATION:Mission Georgetown Cannabis Dispensary\, 401 East Main Street\, Georgetown\, MA\, United States
END:VEVENT
BEGIN:VEVENT
DTSTART;TZID=America/New_York:20251209T130000
DTEND;TZID=America/New_York:20251212T180000
DTSTAMP:20260423T161638
CREATED:20251201T020519Z
LAST-MODIFIED:20251207T205757Z
UID:875-1765285200-1765562400@dirtywatercandles.com
SUMMARY:Due to a family emergency this Pop Up has been cancelled - Sorry everyone
DESCRIPTION:
URL:https://dirtywatercandles.com/event/pop-up-mission-dispensary-georgetown-1pm-6pm-tuesday-december-9th-through-friday-december-12th/
LOCATION:Mission Georgetown Cannabis Dispensary\, 401 East Main Street\, Georgetown\, MA\, United States
END:VEVENT
BEGIN:VEVENT
DTSTART;TZID=America/New_York:20251205T150000
DTEND;TZID=America/New_York:20251205T190000
DTSTAMP:20260423T161638
CREATED:20251023T193312Z
LAST-MODIFIED:20251027T023644Z
UID:816-1764946800-1764961200@dirtywatercandles.com
SUMMARY:Pop-Up Reverie 73 in Gloucester December 5 from 3-7
DESCRIPTION:
URL:https://dirtywatercandles.com/event/reverie-73-in-gloucester-december-5-from-3-7/
LOCATION:Reverie 73 – Gloucester\, 73 Essex Ave\,\, Gloucester\, MA\, 01930\, United States
END:VEVENT
BEGIN:VEVENT
DTSTART;TZID=America/New_York:20251201T130000
DTEND;TZID=America/New_York:20251201T183000
DTSTAMP:20260423T161638
CREATED:20251128T015634Z
LAST-MODIFIED:20251128T015634Z
UID:865-1764594000-1764613800@dirtywatercandles.com
SUMMARY:Pop-Up Sanctuary Danvers Monday December 1st from 1-6:30
DESCRIPTION:
URL:https://dirtywatercandles.com/event/pop-up-sanctuary-danvers-monday-december-1st-from-1-630/
LOCATION:Sanctuary Danvers – This location is only for medical card-holders\, 2 Electronics Ave\, Danvers\, MA\, 01923\, United States
END:VEVENT
BEGIN:VEVENT
DTSTART;TZID=America/New_York:20251128T130000
DTEND;TZID=America/New_York:20251129T190000
DTSTAMP:20260423T161638
CREATED:20251128T015128Z
LAST-MODIFIED:20251128T015158Z
UID:862-1764334800-1764442800@dirtywatercandles.com
SUMMARY:Pop-Up Sanctuary Woburn Saturday November 29th from 1-7
DESCRIPTION:
URL:https://dirtywatercandles.com/event/pop-up-sanctuary-woburn-saturday-november-29th-from-1-7/
LOCATION:Sanctuary Woburn\, 130 Commerce Way\, Woburn\, MA\, 01801\, United States
END:VEVENT
BEGIN:VEVENT
DTSTART;TZID=America/New_York:20251126T130000
DTEND;TZID=America/New_York:20251126T180000
DTSTAMP:20260423T161638
CREATED:20251023T201024Z
LAST-MODIFIED:20251023T201024Z
UID:827-1764162000-1764180000@dirtywatercandles.com
SUMMARY:Sanctuary Woburn Pop-Up Wednesday 11/26 from 1-6
DESCRIPTION:
URL:https://dirtywatercandles.com/event/sanctuary-woburn-pop-up-wednesday-11-26-from-1-6/
LOCATION:Sanctuary Woburn\, 130 Commerce Way\, Woburn\, MA\, 01801\, United States
ATTACH;FMTTYPE=image/png:https://dirtywatercandles.com/wp-content/uploads/2025/08/Screenshot-2025-09-02-223656.png
END:VEVENT
BEGIN:VEVENT
DTSTART;TZID=America/New_York:20251122T110000
DTEND;TZID=America/New_York:20251122T150000
DTSTAMP:20260423T161638
CREATED:20251121T182724Z
LAST-MODIFIED:20251121T182923Z
UID:856-1763809200-1763823600@dirtywatercandles.com
SUMMARY:Pop-Up Sale Saturday 11/22/25 from 11-3 UPS Store - Stoneham
DESCRIPTION:
URL:https://dirtywatercandles.com/event/dirty-water-pop-up-sale-saturday-11-22-25-from-11-3-at-the-ups-store-in-stoneham/
LOCATION:The UPS Store – Stoneham\, 200F Main Street\, Stoneham\, MA\, 02180\, United States
END:VEVENT
BEGIN:VEVENT
DTSTART;TZID=America/New_York:20251113T130000
DTEND;TZID=America/New_York:20251116T180000
DTSTAMP:20260423T161638
CREATED:20250928T235112Z
LAST-MODIFIED:20251020T190003Z
UID:789-1763038800-1763316000@dirtywatercandles.com
SUMMARY:Pop Up - Mission Dispensary - Georgetown 1pm-6pm Thursday through Sunday
DESCRIPTION:
URL:https://dirtywatercandles.com/event/pop-up-mission-dispensary-georgetown-1pm-6pm-thursday-through-sunday/
LOCATION:Mission Georgetown Cannabis Dispensary\, 401 East Main Street\, Georgetown\, MA\, United States
END:VEVENT
BEGIN:VEVENT
DTSTART;TZID=America/New_York:20251108T130000
DTEND;TZID=America/New_York:20251108T180000
DTSTAMP:20260423T161638
CREATED:20251104T034322Z
LAST-MODIFIED:20251104T034322Z
UID:850-1762606800-1762624800@dirtywatercandles.com
SUMMARY:Pop-Up Sanctuary Danvers Saturday November 8th from 1-6
DESCRIPTION:
URL:https://dirtywatercandles.com/event/pop-up-sanctuary-danvers-nov-8th-1-6/
LOCATION:Sanctuary Danvers – This location is only for medical card-holders\, 2 Electronics Ave\, Danvers\, MA\, 01923\, United States
END:VEVENT
BEGIN:VEVENT
DTSTART;TZID=America/New_York:20251107T130000
DTEND;TZID=America/New_York:20251107T180000
DTSTAMP:20260423T161638
CREATED:20251104T032030Z
LAST-MODIFIED:20251104T032030Z
UID:845-1762520400-1762538400@dirtywatercandles.com
SUMMARY:Sanctuary Woburn Pop-Up Friday November 7th from 1-6
DESCRIPTION:Welcome to your new favorite candle destination—where fragrance meets fun and sass is always in style! Tired of the same old candle names and scents? You’re in the right place. My collection features bold creations like Salty Bitch and Jingle Balls\, designed to spark conversation and laughter while filling your space with fabulous aromas.
URL:https://dirtywatercandles.com/event/sanctuary-woburn-pop-up-november-7th-1-6/
LOCATION:Sanctuary Woburn\, 130 Commerce Way\, Woburn\, MA\, 01801\, United States
ATTACH;FMTTYPE=image/png:https://dirtywatercandles.com/wp-content/uploads/2025/08/Screenshot-2025-09-02-223656.png
END:VEVENT
BEGIN:VEVENT
DTSTART;TZID=America/New_York:20251103T130000
DTEND;TZID=America/New_York:20251103T180000
DTSTAMP:20260423T161638
CREATED:20251023T200213Z
LAST-MODIFIED:20251023T200213Z
UID:825-1762174800-1762192800@dirtywatercandles.com
SUMMARY:Sanctuary Woburn Pop-Up November 3rd from 1-6
DESCRIPTION:
URL:https://dirtywatercandles.com/event/sanctuary-woburn-pop-up-november-3rd-from-1-6/
LOCATION:Sanctuary Woburn\, 130 Commerce Way\, Woburn\, MA\, 01801\, United States
ATTACH;FMTTYPE=image/png:https://dirtywatercandles.com/wp-content/uploads/2025/08/Screenshot-2025-09-02-223656.png
END:VEVENT
BEGIN:VEVENT
DTSTART;TZID=UTC:20251031T140000
DTEND;TZID=UTC:20251031T190000
DTSTAMP:20260423T161638
CREATED:20251030T173106Z
LAST-MODIFIED:20251030T173311Z
UID:842-1761919200-1761937200@dirtywatercandles.com
SUMMARY:Pop Up - Reverie 73 Lowell Friday Oct 31st from 2-7
DESCRIPTION:add a description
URL:https://dirtywatercandles.com/event/pop-up-reverie-73-lowell-friday-oct-31st-from-2-7/
LOCATION:Reverie 73 – Lowell\, 1148 Bridge Street\, Lowell\, MA\, 01850\, United States
CATEGORIES:Pop Up
ATTACH;FMTTYPE=image/png:https://dirtywatercandles.com/wp-content/uploads/2025/08/Screenshot-2025-09-02-223656.png
END:VEVENT
BEGIN:VEVENT
DTSTART;TZID=America/New_York:20251025T130000
DTEND;TZID=America/New_York:20251025T180000
DTSTAMP:20260423T161638
CREATED:20251023T192302Z
LAST-MODIFIED:20251023T192302Z
UID:812-1761397200-1761415200@dirtywatercandles.com
SUMMARY:Sanctuary Woburn Pop-Up Saturday from 1-6
DESCRIPTION:
URL:https://dirtywatercandles.com/event/sanctuary-woburn-pop-up-saturday-from-1-6/
LOCATION:Sanctuary Woburn\, 130 Commerce Way\, Woburn\, MA\, 01801\, United States
ATTACH;FMTTYPE=image/png:https://dirtywatercandles.com/wp-content/uploads/2025/08/Screenshot-2025-09-02-223656.png
END:VEVENT
BEGIN:VEVENT
DTSTART;TZID=UTC:20251024T120000
DTEND;TZID=UTC:20251024T180000
DTSTAMP:20260423T161638
CREATED:20251018T010826Z
LAST-MODIFIED:20251018T010826Z
UID:802-1761307200-1761328800@dirtywatercandles.com
SUMMARY:Pop Up - Reverie 73 Beverly Friday October 24th
DESCRIPTION:add a description
URL:https://dirtywatercandles.com/event/pop-up-reverie-73-beverly-friday-october-24th/
LOCATION:Reverie 73 – Beverly\, 350 Rantoul Street\, Beverly\, MA\, 01915\, United States
CATEGORIES:Pop Up
ATTACH;FMTTYPE=image/png:https://dirtywatercandles.com/wp-content/uploads/2025/08/Screenshot-2025-09-02-223656.png
END:VEVENT
BEGIN:VEVENT
DTSTART;TZID=UTC:20251011T120000
DTEND;TZID=UTC:20251011T180000
DTSTAMP:20260423T161638
CREATED:20250602T030329Z
LAST-MODIFIED:20251007T004951Z
UID:388-1760184000-1760205600@dirtywatercandles.com
SUMMARY:Pop Up - Reverie 73 Lowell Saturday Oct 11th from 12-6
DESCRIPTION:add a description
URL:https://dirtywatercandles.com/event/candle-pop-up-store-2/
LOCATION:Reverie 73 – Lowell\, 1148 Bridge Street\, Lowell\, MA\, 01850\, United States
CATEGORIES:Pop Up
ATTACH;FMTTYPE=image/png:https://dirtywatercandles.com/wp-content/uploads/2025/08/Screenshot-2025-09-02-223656.png
END:VEVENT
BEGIN:VEVENT
DTSTART;TZID=America/New_York:20250918T130000
DTEND;TZID=America/New_York:20250921T180000
DTSTAMP:20260423T161638
CREATED:20250918T062036Z
LAST-MODIFIED:20250918T062346Z
UID:780-1758200400-1758477600@dirtywatercandles.com
SUMMARY:Pop Up - Mission Dispensary - Georgetown 1pm-6pm Thursday through Sunday
DESCRIPTION:
URL:https://dirtywatercandles.com/event/pop-up-mission-dispensary-georgetown/
LOCATION:Mission Georgetown Cannabis Dispensary\, 401 East Main Street\, Georgetown\, MA\, United States
END:VEVENT
BEGIN:VEVENT
DTSTART;TZID=America/New_York:20250913T150000
DTEND;TZID=America/New_York:20250913T200000
DTSTAMP:20260423T161638
CREATED:20250910T021729Z
LAST-MODIFIED:20250910T021837Z
UID:776-1757775600-1757793600@dirtywatercandles.com
SUMMARY:Pop Up - Lazy River Dracut
DESCRIPTION:Excited to be able to showcase my products in Dracut on September 13th.  It would be great to see you! \n \n 
URL:https://dirtywatercandles.com/event/pop-up-lazy-river-dracut/
LOCATION:Lazy River Dracut\, 149 Broadway Road\, Dracut\, MA\, 01826\, United States
END:VEVENT
BEGIN:VEVENT
DTSTART;TZID=America/New_York:20250905T120000
DTEND;TZID=America/New_York:20250905T160000
DTSTAMP:20260423T161638
CREATED:20250821T040748Z
LAST-MODIFIED:20250903T031328Z
UID:747-1757073600-1757088000@dirtywatercandles.com
SUMMARY:Pop Up - Nova Farms Dracut
DESCRIPTION:Excited to be able to showcase my products in Dracut on September 5th.  It would be great to see you! \n \n 
URL:https://dirtywatercandles.com/event/pop-up-nova-farms-dracut/
LOCATION:Nova Farms Dracut\, 1274 Merrimack Ave\, Dracut\, MA\, 01826\, United States
END:VEVENT
BEGIN:VEVENT
DTSTART;TZID=America/New_York:20250823T130000
DTEND;TZID=America/New_York:20250823T170000
DTSTAMP:20260423T161638
CREATED:20250822T204508Z
LAST-MODIFIED:20250822T204508Z
UID:757-1755954000-1755968400@dirtywatercandles.com
SUMMARY:Pop Up - Mello - Porchfest - 8/23
DESCRIPTION:Come join me on the porch of Mello tomorrow in Haverhill from 1-5
URL:https://dirtywatercandles.com/event/pop-up-mello-porchfest-8-23/
LOCATION:Mello – Haverhill\, 330 Amesbury Road\, Haverhill\, MA\, 01830\, United States
END:VEVENT
BEGIN:VEVENT
DTSTART;TZID=UTC:20250622T100000
DTEND;TZID=UTC:20250622T170000
DTSTAMP:20260423T161638
CREATED:20250601T210955Z
LAST-MODIFIED:20250601T221309Z
UID:340-1750586400-1750611600@dirtywatercandles.com
SUMMARY:Candle Pop Up Store
DESCRIPTION:
URL:https://dirtywatercandles.com/event/candle-pop-up-store/
LOCATION:Mission Georgetown Cannabis Dispensary\, 401 East Main Street\, Georgetown\, MA\, United States
CATEGORIES:Pop Up
ATTACH;FMTTYPE=image/jpeg:https://dirtywatercandles.com/wp-content/uploads/2025/06/491889392_10171363004945074_1049320203210120357_n.jpg
END:VEVENT
END:VCALENDAR