BEGIN:VCALENDAR
VERSION:2.0
PRODID:-//Dirty Water Candles - ECPv6.15.20//NONSGML v1.0//EN
CALSCALE:GREGORIAN
METHOD:PUBLISH
X-WR-CALNAME:Dirty Water Candles
X-ORIGINAL-URL:https://dirtywatercandles.com
X-WR-CALDESC:Events for Dirty Water Candles
REFRESH-INTERVAL;VALUE=DURATION:PT1H
X-Robots-Tag:noindex
X-PUBLISHED-TTL:PT1H
BEGIN:VTIMEZONE
TZID:America/New_York
BEGIN:DAYLIGHT
TZOFFSETFROM:-0500
TZOFFSETTO:-0400
TZNAME:EDT
DTSTART:20240310T070000
END:DAYLIGHT
BEGIN:STANDARD
TZOFFSETFROM:-0400
TZOFFSETTO:-0500
TZNAME:EST
DTSTART:20241103T060000
END:STANDARD
BEGIN:DAYLIGHT
TZOFFSETFROM:-0500
TZOFFSETTO:-0400
TZNAME:EDT
DTSTART:20250309T070000
END:DAYLIGHT
BEGIN:STANDARD
TZOFFSETFROM:-0400
TZOFFSETTO:-0500
TZNAME:EST
DTSTART:20251102T060000
END:STANDARD
BEGIN:DAYLIGHT
TZOFFSETFROM:-0500
TZOFFSETTO:-0400
TZNAME:EDT
DTSTART:20260308T070000
END:DAYLIGHT
BEGIN:STANDARD
TZOFFSETFROM:-0400
TZOFFSETTO:-0500
TZNAME:EST
DTSTART:20261101T060000
END:STANDARD
END:VTIMEZONE
BEGIN:VTIMEZONE
TZID:UTC
BEGIN:STANDARD
TZOFFSETFROM:+0000
TZOFFSETTO:+0000
TZNAME:UTC
DTSTART:20240101T000000
END:STANDARD
END:VTIMEZONE
BEGIN:VEVENT
DTSTART;TZID=America/New_York:20250918T130000
DTEND;TZID=America/New_York:20250921T180000
DTSTAMP:20260423T192806
CREATED:20250918T062036Z
LAST-MODIFIED:20250918T062346Z
UID:780-1758200400-1758477600@dirtywatercandles.com
SUMMARY:Pop Up - Mission Dispensary - Georgetown 1pm-6pm Thursday through Sunday
DESCRIPTION:
URL:https://dirtywatercandles.com/event/pop-up-mission-dispensary-georgetown/
LOCATION:Mission Georgetown Cannabis Dispensary\, 401 East Main Street\, Georgetown\, MA\, United States
END:VEVENT
BEGIN:VEVENT
DTSTART;TZID=America/New_York:20250913T150000
DTEND;TZID=America/New_York:20250913T200000
DTSTAMP:20260423T192806
CREATED:20250910T021729Z
LAST-MODIFIED:20250910T021837Z
UID:776-1757775600-1757793600@dirtywatercandles.com
SUMMARY:Pop Up - Lazy River Dracut
DESCRIPTION:Excited to be able to showcase my products in Dracut on September 13th.  It would be great to see you! \n \n 
URL:https://dirtywatercandles.com/event/pop-up-lazy-river-dracut/
LOCATION:Lazy River Dracut\, 149 Broadway Road\, Dracut\, MA\, 01826\, United States
END:VEVENT
BEGIN:VEVENT
DTSTART;TZID=America/New_York:20250905T120000
DTEND;TZID=America/New_York:20250905T160000
DTSTAMP:20260423T192806
CREATED:20250821T040748Z
LAST-MODIFIED:20250903T031328Z
UID:747-1757073600-1757088000@dirtywatercandles.com
SUMMARY:Pop Up - Nova Farms Dracut
DESCRIPTION:Excited to be able to showcase my products in Dracut on September 5th.  It would be great to see you! \n \n 
URL:https://dirtywatercandles.com/event/pop-up-nova-farms-dracut/
LOCATION:Nova Farms Dracut\, 1274 Merrimack Ave\, Dracut\, MA\, 01826\, United States
END:VEVENT
BEGIN:VEVENT
DTSTART;TZID=America/New_York:20250823T130000
DTEND;TZID=America/New_York:20250823T170000
DTSTAMP:20260423T192806
CREATED:20250822T204508Z
LAST-MODIFIED:20250822T204508Z
UID:757-1755954000-1755968400@dirtywatercandles.com
SUMMARY:Pop Up - Mello - Porchfest - 8/23
DESCRIPTION:Come join me on the porch of Mello tomorrow in Haverhill from 1-5
URL:https://dirtywatercandles.com/event/pop-up-mello-porchfest-8-23/
LOCATION:Mello – Haverhill\, 330 Amesbury Road\, Haverhill\, MA\, 01830\, United States
END:VEVENT
BEGIN:VEVENT
DTSTART;TZID=UTC:20250622T100000
DTEND;TZID=UTC:20250622T170000
DTSTAMP:20260423T192806
CREATED:20250601T210955Z
LAST-MODIFIED:20250601T221309Z
UID:340-1750586400-1750611600@dirtywatercandles.com
SUMMARY:Candle Pop Up Store
DESCRIPTION:
URL:https://dirtywatercandles.com/event/candle-pop-up-store/
LOCATION:Mission Georgetown Cannabis Dispensary\, 401 East Main Street\, Georgetown\, MA\, United States
CATEGORIES:Pop Up
ATTACH;FMTTYPE=image/jpeg:https://dirtywatercandles.com/wp-content/uploads/2025/06/491889392_10171363004945074_1049320203210120357_n.jpg
END:VEVENT
END:VCALENDAR