BEGIN:VCALENDAR
VERSION:2.0
PRODID:-//Dirty Water Candles - ECPv6.15.20//NONSGML v1.0//EN
CALSCALE:GREGORIAN
METHOD:PUBLISH
X-ORIGINAL-URL:https://dirtywatercandles.com
X-WR-CALDESC:Events for Dirty Water Candles
REFRESH-INTERVAL;VALUE=DURATION:PT1H
X-Robots-Tag:noindex
X-PUBLISHED-TTL:PT1H
BEGIN:VTIMEZONE
TZID:America/New_York
BEGIN:DAYLIGHT
TZOFFSETFROM:-0500
TZOFFSETTO:-0400
TZNAME:EDT
DTSTART:20250309T070000
END:DAYLIGHT
BEGIN:STANDARD
TZOFFSETFROM:-0400
TZOFFSETTO:-0500
TZNAME:EST
DTSTART:20251102T060000
END:STANDARD
BEGIN:DAYLIGHT
TZOFFSETFROM:-0500
TZOFFSETTO:-0400
TZNAME:EDT
DTSTART:20260308T070000
END:DAYLIGHT
BEGIN:STANDARD
TZOFFSETFROM:-0400
TZOFFSETTO:-0500
TZNAME:EST
DTSTART:20261101T060000
END:STANDARD
BEGIN:DAYLIGHT
TZOFFSETFROM:-0500
TZOFFSETTO:-0400
TZNAME:EDT
DTSTART:20270314T070000
END:DAYLIGHT
BEGIN:STANDARD
TZOFFSETFROM:-0400
TZOFFSETTO:-0500
TZNAME:EST
DTSTART:20271107T060000
END:STANDARD
END:VTIMEZONE
BEGIN:VEVENT
DTSTART;TZID=America/New_York:20260205T130000
DTEND;TZID=America/New_York:20260208T180000
DTSTAMP:20260423T121648
CREATED:20260204T201113Z
LAST-MODIFIED:20260204T201441Z
UID:900-1770296400-1770573600@dirtywatercandles.com
SUMMARY:Pop Up Event - Mission Georgetown 2/5-2/8 1-6 each day
DESCRIPTION:
URL:https://dirtywatercandles.com/event/pop-up-event-mission-georgetown-2-5-2-8/
LOCATION:Mission Georgetown Cannabis Dispensary\, 401 East Main Street\, Georgetown\, MA\, United States
END:VEVENT
BEGIN:VEVENT
DTSTART;TZID=America/New_York:20260209T133000
DTEND;TZID=America/New_York:20260209T173000
DTSTAMP:20260423T121648
CREATED:20260209T021235Z
LAST-MODIFIED:20260209T172349Z
UID:905-1770643800-1770658200@dirtywatercandles.com
SUMMARY:Additional Pop Up at Mission Monday February 9th from 1:30-5:30
DESCRIPTION:
URL:https://dirtywatercandles.com/event/additional-pop-up-at-mission-monday-february-9th-from-130-530/
LOCATION:Mission Georgetown Cannabis Dispensary\, 401 East Main Street\, Georgetown\, MA\, United States
END:VEVENT
BEGIN:VEVENT
DTSTART;TZID=America/New_York:20260213T080000
DTEND;TZID=America/New_York:20260213T170000
DTSTAMP:20260423T121648
CREATED:20260213T160722Z
LAST-MODIFIED:20260213T160929Z
UID:908-1770969600-1771002000@dirtywatercandles.com
SUMMARY:Pop-up just in time for Valentine's Day - 2/13-2/14 1-6 both days - Woburn - Sanctuary Medicinals
DESCRIPTION:
URL:https://dirtywatercandles.com/event/pop-up-feb13-to-feb14-1-6-both-days-at-woburn-sanctuary-medicinals/
END:VEVENT
BEGIN:VEVENT
DTSTART;TZID=America/New_York:20260219T130000
DTEND;TZID=America/New_York:20260221T180000
DTSTAMP:20260423T121648
CREATED:20260220T033002Z
LAST-MODIFIED:20260220T033002Z
UID:910-1771506000-1771696800@dirtywatercandles.com
SUMMARY:Pop Up at Reverie 73 in Lowell Friday 2/20 and Saturday 2/21 1pm-6pm each day
DESCRIPTION:
URL:https://dirtywatercandles.com/event/pop-up-at-reverie-73-in-lowell-friday-2-20-and-saturday-2-21-1pm-6pm-each-day/
LOCATION:Reverie 73 – Lowell\, 1148 Bridge Street\, Lowell\, MA\, 01850\, United States
END:VEVENT
END:VCALENDAR